Workbook

Sheet Skaičiavimai
A1: Matavimų skaičius | B1: Geoido modelis | C1: Geoido modelio paklaida mG, m
A2: 1 | B2: 24 | C2: 2
A3: =COUNT(F8:F9758) -> 312 | B3: LIT20G | C3: =VLOOKUP(B3,Geoidai!A1:B2,2) -> 0.008
A5: Matavimai | I5: Horizontalaus tikslumo skaičiavimai | Q5: Vertikalaus tikslumo skaičiavimai
A6: Nr. | B6: X | C6: Y | D6: H | E6: Kodas | F6: HVKP (HRMS) | G6: VVKP (VRMS) | I6: Deklaruojamas individualaus taško horizontalus tikslumas (su 95% tikimybe) | J6: D | K6: Vidurkis | L6: Dispersija | M6: Vidutinis kvadratinis nuokrypis s (68%) | N6: Ribinė klaida 2 x s (95%) | O6: Deklaruojamas IMTIES matavimų horizontalus tikslumas (95%) | Q6: Deklaruojamas individualaus taško vertikalus tikslumas (su 95% tikimybe) | R6: D | S6: Vidurkis | T6: Dispersija | U6: Vidutinis kvadratinis nuokrypis s (68%) | V6: Ribinė klaida 2 x s (95%) | W6: Deklaruojamas IMTIES matavimų vertikalus tikslumas (95%)
A7: 3 | B7: 4 | C7: 5 | D7: 6 | E7: 7 | F7: 8 | G7: 9 | I7: 10 | J7: 11 | K7: 12 | L7: 13 | M7: 14 | N7: 15 | O7: 16 | Q7: 17 | R7: 18 | S7: 19 | T7: 20 | U7: 21 | V7: 22 | W7: 23
A8: 588 | B8: 6593297.7 | C8: 153585.55 | D8: 21.941 | E8: 8 | F8: 0.009 | G8: 0.017 | I8: =2*F8 -> 0.018 | J8: =I8-$K$8 -> 0.005 | K8: =ROUND(AVERAGE(I8:I9758),3) -> 0.013 | L8: =SUMSQ(J8:J9758)/(A3-1) -> 2.577492e-05 | M8: =ROUND(SQRT(L8),3) -> 0.005 | N8: =ROUND(2*M8,3) -> 0.01 | O8: =ROUND(K8+N8,3) -> 0.023 | Q8: =ROUND(2*SQRT(G8^2+$C$3^2),3) -> 0.038 | R8: =Q8-$S$8 -> 0.012 | S8: =ROUND(AVERAGE(Q8:Q9991),3) -> 0.026 | T8: =SUMSQ(R8:R9758)/(A3-1) -> 4.0392283e-05 | U8: =ROUND(SQRT(T8),3) -> 0.006 | V8: =ROUND(2*U8,3) -> 0.012 | W8: =ROUND(S8+V8,3) -> 0.038
A9: 589 | B9: 6593298.2 | C9: 153586.69 | D9: 21.377 | E9: 8 | F9: 0.011 | G9: 0.019 | I9: =2*F9 -> 0.022 | J9: =I9-$K$8 -> 0.009 | Q9: =ROUND(2*SQRT(G9^2+$C$3^2),3) -> 0.041 | R9: =Q9-$S$8 -> 0.015
A10: 590 | B10: 6593298.4 | C10: 153587.48 | D10: 21.448 | E10: 8 | F10: 0.013 | G10: 0.021 | I10: =2*F10 -> 0.026 | J10: =I10-$K$8 -> 0.013 | Q10: =ROUND(2*SQRT(G10^2+$C$3^2),3) -> 0.045 | R10: =Q10-$S$8 -> 0.019
A11: 591 | B11: 6593298.5 | C11: 153588.98 | D11: 21.648 | E11: 8 | F11: 0.007 | G11: 0.012 | I11: =2*F11 -> 0.014 | J11: =I11-$K$8 -> 0.001 | L11: Patikrinimo sąlygos 10-am stulpeliui | Q11: =ROUND(2*SQRT(G11^2+$C$3^2),3) -> 0.029 | R11: =Q11-$S$8 -> 0.003 | T11: Patikrinimo sąlygos 17-am stulpeliui
A12: 592 | B12: 6593299.5 | C12: 153593.12 | D12: 21.623 | E12: 8 | F12: 0.009 | G12: 0.017 | I12: =2*F12 -> 0.018 | J12: =I12-$K$8 -> 0.005 | L12: 0.68 | M12: 0.95 | N12: 0.05 | Q12: =ROUND(2*SQRT(G12^2+$C$3^2),3) -> 0.038 | R12: =Q12-$S$8 -> 0.012 | T12: 0.68 | U12: 0.95 | V12: 0.05
A13: 593 | B13: 6593299.8 | C13: 153594.23 | D13: 21.16 | E13: 8 | F13: 0.008 | G13: 0.015 | I13: =2*F13 -> 0.016 | J13: =I13-$K$8 -> 0.003 | L13: 10 | M13: 10 | N13: 10 | Q13: =ROUND(2*SQRT(G13^2+$C$3^2),3) -> 0.034 | R13: =Q13-$S$8 -> 0.008 | T13: 17 | U13: 17 | V13: 17
A14: 594 | B14: 6593299.9 | C14: 153594.89 | D14: 21.402 | E14: 8 | F14: 0.011 | G14: 0.018 | I14: =2*F14 -> 0.022 | J14: =I14-$K$8 -> 0.009 | L14: ="< " & N18 + 0.001 -> < 0.019 | M14: ="< " & O8 + 0.001 -> < 0.024 | N14: ="> " & O8 -> > 0.023 | Q14: =ROUND(2*SQRT(G14^2+$C$3^2),3) -> 0.039 | R14: =Q14-$S$8 -> 0.013 | T14: ="< " & V18 + 0.001 -> < 0.033 | U14: ="< " & W8 + 0.001 -> < 0.039 | V14: ="> " & W8 -> > 0.038
A15: 595 | B15: 6593300.2 | C15: 153599.65 | D15: 21.3 | E15: 8 | F15: 0.011 | G15: 0.018 | I15: =2*F15 -> 0.022 | J15: =I15-$K$8 -> 0.009 | Q15: =ROUND(2*SQRT(G15^2+$C$3^2),3) -> 0.039 | R15: =Q15-$S$8 -> 0.013
A16: 596 | B16: 6593279.4 | C16: 153606.06 | D16: 21.317 | E16: 8 | F16: 0.01 | G16: 0.021 | I16: =2*F16 -> 0.02 | J16: =I16-$K$8 -> 0.007 | L16: Skaičiavimų kontrolė | Q16: =ROUND(2*SQRT(G16^2+$C$3^2),3) -> 0.045 | R16: =Q16-$S$8 -> 0.019 | T16: Skaičiavimų kontrolė
A17: 597 | B17: 6593275.9 | C17: 153603.28 | D17: 21.417 | E17: 8 | F17: 0.007 | G17: 0.015 | I17: =2*F17 -> 0.014 | J17: =I17-$K$8 -> 0.001 | L17: 68% matavimų | Q17: =ROUND(2*SQRT(G17^2+$C$3^2),3) -> 0.034 | R17: =Q17-$S$8 -> 0.008 | T17: 68% matavimų
A18: 598 | B18: 6593275.3 | C18: 153601.99 | D18: 21.087 | E18: 8 | F18: 0.008 | G18: 0.016 | I18: =2*F18 -> 0.016 | J18: =I18-$K$8 -> 0.003 | L18: Tikslumas turi būti <= | N18: =ROUND(K8+M8,3) -> 0.018 | Q18: =ROUND(2*SQRT(G18^2+$C$3^2),3) -> 0.036 | R18: =Q18-$S$8 -> 0.01 | T18: Tikslumas turi būti <= | V18: =ROUND(S8+U8,3) -> 0.032
A19: 599 | B19: 6593274.9 | C19: 153601.22 | D19: 21.049 | E19: 8 | F19: 0.007 | G19: 0.013 | I19: =2*F19 -> 0.014 | J19: =I19-$K$8 -> 0.001 | L19: Turi būti taškų | N19: =ROUNDUP(0.68*A3,0) -> 213 | Q19: =ROUND(2*SQRT(G19^2+$C$3^2),3) -> 0.031 | R19: =Q19-$S$8 -> 0.005 | T19: Turi būti taškų | V19: =ROUNDUP(0.68*A3,0) -> 213
A20: 600 | B20: 6593274.7 | C20: 153600.3 | D20: 21.626 | E20: 8 | F20: 0.01 | G20: 0.022 | I20: =2*F20 -> 0.02 | J20: =I20-$K$8 -> 0.007 | L20: Yra taškų | N20: =DCOUNTA(I7:I9979,"10",L13:L14) -> 281 | Q20: =ROUND(2*SQRT(G20^2+$C$3^2),3) -> 0.047 | R20: =Q20-$S$8 -> 0.021 | T20: Yra taškų | V20: =DCOUNTA(Q7:Q9979,"17",T13:T14) -> 267
A21: 601 | B21: 6593273.8 | C21: 153596.11 | D21: 21.623 | E21: 8 | F21: 0.009 | G21: 0.016 | I21: =2*F21 -> 0.018 | J21: =I21-$K$8 -> 0.005 | L21: Sudaro % | N21: =N20/$A$3 -> 0.90064103 | Q21: =ROUND(2*SQRT(G21^2+$C$3^2),3) -> 0.036 | R21: =Q21-$S$8 -> 0.01 | T21: Sudaro % | V21: =V20/$A$3 -> 0.85576923
A22: 602 | B22: 6593273.8 | C22: 153596.19 | D22: 21.594 | E22: 8 | F22: 0.012 | G22: 0.021 | I22: =2*F22 -> 0.024 | J22: =I22-$K$8 -> 0.011 | L22: 95% matavimų | Q22: =ROUND(2*SQRT(G22^2+$C$3^2),3) -> 0.045 | R22: =Q22-$S$8 -> 0.019 | T22: 95% matavimų
A23: 603 | B23: 6593273.5 | C23: 153594.96 | D23: 21.178 | E23: 8 | F23: 0.02 | G23: 0.03 | I23: =2*F23 -> 0.04 | J23: =I23-$K$8 -> 0.027 | L23: Tikslumas turi būti <= | N23: =O8 -> 0.023 | Q23: =ROUND(2*SQRT(G23^2+$C$3^2),3) -> 0.062 | R23: =Q23-$S$8 -> 0.036 | T23: Tikslumas turi būti <= | V23: =W8 -> 0.038
A24: 604 | B24: 6593272.8 | C24: 153594.15 | D24: 21.188 | E24: 8 | F24: 0.012 | G24: 0.017 | I24: =2*F24 -> 0.024 | J24: =I24-$K$8 -> 0.011 | L24: Turi būti taškų | N24: =ROUNDUP(0.95*A3,0) -> 297 | Q24: =ROUND(2*SQRT(G24^2+$C$3^2),3) -> 0.038 | R24: =Q24-$S$8 -> 0.012 | T24: Turi būti taškų | V24: =ROUNDUP(0.95*A3,0) -> 297
A25: 605 | B25: 6593271.4 | C25: 153592.45 | D25: 22.659 | E25: 8 | F25: 0.017 | G25: 0.026 | I25: =2*F25 -> 0.034 | J25: =I25-$K$8 -> 0.021 | L25: Yra taškų | N25: =DCOUNTA(I7:I9983,"10",M13:M14) -> 298 | Q25: =ROUND(2*SQRT(G25^2+$C$3^2),3) -> 0.054 | R25: =Q25-$S$8 -> 0.028 | T25: Yra taškų | V25: =DCOUNTA(Q7:Q9991,"17",U13:U14) -> 296
A26: 606 | B26: 6593260.1 | C26: 153595.48 | D26: 22.635 | E26: 8 | F26: 0.009 | G26: 0.016 | I26: =2*F26 -> 0.018 | J26: =I26-$K$8 -> 0.005 | L26: Sudaro % | N26: =N25/$A$3 -> 0.95512821 | Q26: =ROUND(2*SQRT(G26^2+$C$3^2),3) -> 0.036 | R26: =Q26-$S$8 -> 0.01 | T26: Sudaro % | V26: =V25/$A$3 -> 0.94871795
A27: 607 | B27: 6593261.3 | C27: 153597.23 | D27: 21.184 | E27: 8 | F27: 0.01 | G27: 0.016 | I27: =2*F27 -> 0.02 | J27: =I27-$K$8 -> 0.007 | L27: 5% matavimų | Q27: =ROUND(2*SQRT(G27^2+$C$3^2),3) -> 0.036 | R27: =Q27-$S$8 -> 0.01 | T27: 5% matavimų
A28: 608 | B28: 6593261.9 | C28: 153597.64 | D28: 21.259 | E28: 8 | F28: 0.012 | G28: 0.018 | I28: =2*F28 -> 0.024 | J28: =I28-$K$8 -> 0.011 | L28: Tikslumas turi būti > | N28: =O8 -> 0.023 | Q28: =ROUND(2*SQRT(G28^2+$C$3^2),3) -> 0.039 | R28: =Q28-$S$8 -> 0.013 | T28: Tikslumas turi būti > | V28: =W8 -> 0.038
A29: 609 | B29: 6593262.5 | C29: 153598.8 | D29: 21.539 | E29: 8 | F29: 0.009 | G29: 0.014 | I29: =2*F29 -> 0.018 | J29: =I29-$K$8 -> 0.005 | L29: Turi būti taškų | N29: =ROUNDUP(0.05*A3,0) -> 16 | Q29: =ROUND(2*SQRT(G29^2+$C$3^2),3) -> 0.032 | R29: =Q29-$S$8 -> 0.006 | T29: Turi būti taškų | V29: =ROUNDUP(0.05*A3,0) -> 16
A30: 610 | B30: 6593263.8 | C30: 153603.34 | D30: 21.516 | E30: 8 | F30: 0.008 | G30: 0.012 | I30: =2*F30 -> 0.016 | J30: =I30-$K$8 -> 0.003 | L30: Yra taškų | N30: =DCOUNTA(I7:I9987,"10",N13:N14) -> 14 | Q30: =ROUND(2*SQRT(G30^2+$C$3^2),3) -> 0.029 | R30: =Q30-$S$8 -> 0.003 | T30: Yra taškų | V30: =DCOUNTA(Q7:Q9999,"17",V13:V14) -> 16
A31: 611 | B31: 6593264.8 | C31: 153606.74 | D31: 21.367 | E31: 8 | F31: 0.006 | G31: 0.012 | I31: =2*F31 -> 0.012 | J31: =I31-$K$8 -> -0.001 | Q31: =ROUND(2*SQRT(G31^2+$C$3^2),3) -> 0.029 | R31: =Q31-$S$8 -> 0.003
A32: 612 | B32: 6593265.8 | C32: 153609.98 | D32: 21.257 | E32: 8 | F32: 0.006 | G32: 0.012 | I32: =2*F32 -> 0.012 | J32: =I32-$K$8 -> -0.001 | Q32: =ROUND(2*SQRT(G32^2+$C$3^2),3) -> 0.029 | R32: =Q32-$S$8 -> 0.003 | T32: Vertikalaus tikslumo formulė pagal GKTR 1.01:2020. Atkreiptinas dėmesys, kad geoido tikslumas yra VKP, kurios pasikliautinumas yra 68%.
A33: 613 | B33: 6592391.2 | C33: 153599.99 | D33: 11.74 | E33: ktr-QA-vv | F33: 0.002 | G33: 0.004 | I33: =2*F33 -> 0.004 | J33: =I33-$K$8 -> -0.009 | Q33: =ROUND(2*SQRT(G33^2+$C$3^2),3) -> 0.018 | R33: =Q33-$S$8 -> -0.008
A34: 614 | B34: 6592391.3 | C34: 153596.78 | D34: 11.653 | E34: ktr-QA-vv | F34: 0.002 | G34: 0.004 | I34: =2*F34 -> 0.004 | J34: =I34-$K$8 -> -0.009 | Q34: =ROUND(2*SQRT(G34^2+$C$3^2),3) -> 0.018 | R34: =Q34-$S$8 -> -0.008
A35: 618 | B35: 6592179.7 | C35: 153588.58 | D35: 8.901 | E35: es-tvor1 P/iki viad siaur dal | F35: 0.008 | G35: 0.012 | I35: =2*F35 -> 0.016 | J35: =I35-$K$8 -> 0.003 | Q35: =ROUND(2*SQRT(G35^2+$C$3^2),3) -> 0.029 | R35: =Q35-$S$8 -> 0.003
A36: 620 | B36: 6592146.6 | C36: 153588.2 | D36: 8.947 | E36: es-tvor1 | F36: 0.008 | G36: 0.012 | I36: =2*F36 -> 0.016 | J36: =I36-$K$8 -> 0.003 | Q36: =ROUND(2*SQRT(G36^2+$C$3^2),3) -> 0.029 | R36: =Q36-$S$8 -> 0.003
A37: 621 | B37: 6592141.6 | C37: 153597.86 | D37: 8.528 | E37: es-tvor2 P | F37: 0.006 | G37: 0.01 | I37: =2*F37 -> 0.012 | J37: =I37-$K$8 -> -0.001 | Q37: =ROUND(2*SQRT(G37^2+$C$3^2),3) -> 0.026 | R37: =Q37-$S$8 -> 0
A38: 622 | B38: 6592100.2 | C38: 153594.01 | D38: 8.897 | E38: es-tvor2 | F38: 0.006 | G38: 0.01 | I38: =2*F38 -> 0.012 | J38: =I38-$K$8 -> -0.001 | Q38: =ROUND(2*SQRT(G38^2+$C$3^2),3) -> 0.026 | R38: =Q38-$S$8 -> 0
A39: 623 | B39: 6592075.9 | C39: 153591.68 | D39: 8.898 | E39: es-tvor2 | F39: 0.007 | G39: 0.011 | I39: =2*F39 -> 0.014 | J39: =I39-$K$8 -> 0.001 | Q39: =ROUND(2*SQRT(G39^2+$C$3^2),3) -> 0.027 | R39: =Q39-$S$8 -> 0.001
A40: 624 | B40: 6592068.5 | C40: 153600.04 | D40: 8.719 | E40: es-tvor2 | F40: 0.006 | G40: 0.01 | I40: =2*F40 -> 0.012 | J40: =I40-$K$8 -> -0.001 | Q40: =ROUND(2*SQRT(G40^2+$C$3^2),3) -> 0.026 | R40: =Q40-$S$8 -> 0 | T40: HVKP (8) - horizontalus matavimų tikslumas, kurį deklaruoja GPNS imtuvas VVKP (9) - vertikalus matavimų tikslumas, kurį deklaruoja GPNS imtuvas Apskaičiavus matavimų imties vidutinį kvadratinį nuokrypį reikia jį pridėti prie imties VKP vidurkio, nes VKN parodo reikšmių išsibarstymą būtent apie šį vidurkį. Matavimų HVKP ir VVKP reikšmių formatavimas yra toks, kad būtų paryškintos reikšmės, viršijančios deklaruojamą matavimų VKP. Kad būtų galima suvokti, ar imtis atitinka normalujį skirstinį, kontroliniuose skaičiavimuose parodyta, kaip turėtų būti ir kaip faktiškai yra pasiskirstę taškai pagal matavimo tikslumą.
A41: 625 | B41: 6592057.4 | C41: 153596.76 | D41: 8.648 | E41: es-tvor2 | F41: 0.008 | G41: 0.016 | I41: =2*F41 -> 0.016 | J41: =I41-$K$8 -> 0.003 | Q41: =ROUND(2*SQRT(G41^2+$C$3^2),3) -> 0.036 | R41: =Q41-$S$8 -> 0.01
...

Sheet Ataskaita
A1: GPNS matavimų tikslumo ataskaita
A2: Objekto pavadinimas:
A3: Data:
A5: Matavimų skaičius | C5: =Skaičiavimai!A3 -> 312
A7: Horizontalus tikslumas
A8: Imties vidurkis, m | F8: =Skaičiavimai!K8 -> 0.013
A9: Dispersija, m2 | F9: =Skaičiavimai!L8 -> 2.577492e-05
A10: Vidutinis kvadratinis nuokrypis s, m | F10: =Skaičiavimai!M8 -> 0.005
A11: 2 x s (95%), m | F11: =Skaičiavimai!N8 -> 0.01
A12: Deklaruojamas imties horizontalus tikslumas (95%), m | F12: =Skaičiavimai!O8 -> 0.023
A14: Vertikalus tikslumas
A15: Geoidas | F15: LIT15G
A16: Geoido tikslumas, m | F16: =Skaičiavimai!C3 -> 0.008
A17: Imties vidurkis, m | F17: =Skaičiavimai!S8 -> 0.026
A18: Dispersija, m2 | F18: =Skaičiavimai!T8 -> 4.0392283e-05
A19: Vidutinis kvadratinis nuokrypis s, m | F19: =Skaičiavimai!U8 -> 0.006
A20: 2 x s (95%), m | F20: =Skaičiavimai!V8 -> 0.012
A21: Deklaruojamas imties vertikalus tikslumas (95%), m | F21: =Skaičiavimai!W8 -> 0.038
A23: Geodezinis pagrindas
A24: Nr. | B24: X | C24: Y | D24: H | E24: Kodas | F24: Hor. tiksl. | G24: Vert. tiksl. | H24: Pastaba
A25: T1 | B25: =VLOOKUP(A25,Skaičiavimai!$A$8:$D$9753,2,FALSE) -> 6594289 | C25: =VLOOKUP(A25,Skaičiavimai!$A$8:$D$9753,3,FALSE) -> 153596.95 | D25: =VLOOKUP(A25,Skaičiavimai!$A$8:$D$9753,4,FALSE) -> 20.175 | E25: =VLOOKUP(A25,Skaičiavimai!$A$8:$E$9753,5,FALSE) -> punktas | F25: =VLOOKUP(A25,Skaičiavimai!$A$8:$Q$9753,9,FALSE) -> 0.014 | G25: =VLOOKUP(A25,Skaičiavimai!$A$8:$Q$9753,17,FALSE) -> 0.027
A26: T2 | B26: =VLOOKUP(A26,Skaičiavimai!$A$8:$D$9753,2,FALSE) -> 6592081 | C26: =VLOOKUP(A26,Skaičiavimai!$A$8:$D$9753,3,FALSE) -> 153582.08 | D26: =VLOOKUP(A26,Skaičiavimai!$A$8:$D$9753,4,FALSE) -> 9.214 | E26: =VLOOKUP(A26,Skaičiavimai!$A$8:$E$9753,5,FALSE) -> punktas | F26: =VLOOKUP(A26,Skaičiavimai!$A$8:$Q$9753,9,FALSE) -> 0.018 | G26: =VLOOKUP(A26,Skaičiavimai!$A$8:$Q$9753,17,FALSE) -> 0.031
D45: Skaičiavimus atliko: | F45: V. Pavardenis

Sheet Geoidai
A1: LIT15G | B1: 0.03
A2: LIT20G | B2: 0.008
