Workbook

Sheet Skaičiavimai
A1: Matavimų skaičius | B1: Geoido modelis | C1: Geoido modelio paklaida mG, m
A2: 1 | B2: 24 | C2: 2
A3: =COUNT(F8:F9758) -> 312 | B3: LIT20G | C3: =VLOOKUP(B3,Geoidai!A1:B2,2) -> 0.008
A5: Matavimai | I5: Horizontalaus tikslumo skaičiavimai | Q5: Vertikalaus tikslumo skaičiavimai
A6: Nr. | B6: X | C6: Y | D6: H | E6: Kodas | F6: HVKP (HRMS) | G6: VVKP (VRMS) | I6: Deklaruojamas individualaus taško horizontalus tikslumas (su 95% tikimybe) | J6: D | K6: Vidurkis | L6: Dispersija | M6: Vidutinis kvadratinis nuokrypis s (68%) | N6: Ribinė klaida 2 x s (95%) | O6: Deklaruojamas IMTIES matavimų horizontalus tikslumas (95%) | Q6: Deklaruojamas individualaus taško vertikalus tikslumas (su 95% tikimybe) | R6: D | S6: Vidurkis | T6: Dispersija | U6: Vidutinis kvadratinis nuokrypis s (68%) | V6: Ribinė klaida 2 x s (95%) | W6: Deklaruojamas IMTIES matavimų vertikalus tikslumas (95%)
A7: 3 | B7: 4 | C7: 5 | D7: 6 | E7: 7 | F7: 8 | G7: 9 | I7: 10 | J7: 11 | K7: 12 | L7: 13 | M7: 14 | N7: 15 | O7: 16 | Q7: 17 | R7: 18 | S7: 19 | T7: 20 | U7: 21 | V7: 22 | W7: 23
A8: 588 | B8: 6593297.7 | C8: 153585.55 | D8: 21.941 | E8: 8 | F8: 0.009 | G8: 0.017 | I8: =2*F8 -> 0.018 | J8: =I8-$K$8 -> 0.005 | K8: =ROUND(AVERAGE(I8:I9758),3) -> 0.013 | L8: =SUMSQ(J8:J9758)/(A3-1) -> 2.577492e-05 | M8: =ROUND(SQRT(L8),3) -> 0.005 | N8: =ROUND(2*M8,3) -> 0.01 | O8: =ROUND(K8+N8,3) -> 0.023 | Q8: =ROUND(2*SQRT(G8^2+$C$3^2),3) -> 0.038 | R8: =Q8-$S$8 -> 0.012 | S8: =ROUND(AVERAGE(Q8:Q9991),3) -> 0.026 | T8: =SUMSQ(R8:R9758)/(A3-1) -> 4.0392283e-05 | U8: =ROUND(SQRT(T8),3) -> 0.006 | V8: =ROUND(2*U8,3) -> 0.012 | W8: =ROUND(S8+V8,3) -> 0.038
A9: 589 | B9: 6593298.2 | C9: 153586.69 | D9: 21.377 | E9: 8 | F9: 0.011 | G9: 0.019 | I9: =2*F9 -> 0.022 | J9: =I9-$K$8 -> 0.009 | Q9: =ROUND(2*SQRT(G9^2+$C$3^2),3) -> 0.041 | R9: =Q9-$S$8 -> 0.015
A10: 590 | B10: 6593298.4 | C10: 153587.48 | D10: 21.448 | E10: 8 | F10: 0.013 | G10: 0.021 | I10: =2*F10 -> 0.026 | J10: =I10-$K$8 -> 0.013 | Q10: =ROUND(2*SQRT(G10^2+$C$3^2),3) -> 0.045 | R10: =Q10-$S$8 -> 0.019
A11: 591 | B11: 6593298.5 | C11: 153588.98 | D11: 21.648 | E11: 8 | F11: 0.007 | G11: 0.012 | I11: =2*F11 -> 0.014 | J11: =I11-$K$8 -> 0.001 | L11: Patikrinimo sąlygos 10-am stulpeliui | Q11: =ROUND(2*SQRT(G11^2+$C$3^2),3) -> 0.029 | R11: =Q11-$S$8 -> 0.003 | T11: Patikrinimo sąlygos 17-am stulpeliui
A12: 592 | B12: 6593299.5 | C12: 153593.12 | D12: 21.623 | E12: 8 | F12: 0.009 | G12: 0.017 | I12: =2*F12 -> 0.018 | J12: =I12-$K$8 -> 0.005 | L12: 0.68 | M12: 0.95 | N12: 0.05 | Q12: =ROUND(2*SQRT(G12^2+$C$3^2),3) -> 0.038 | R12: =Q12-$S$8 -> 0.012 | T12: 0.68 | U12: 0.95 | V12: 0.05
A13: 593 | B13: 6593299.8 | C13: 153594.23 | D13: 21.16 | E13: 8 | F13: 0.008 | G13: 0.015 | I13: =2*F13 -> 0.016 | J13: =I13-$K$8 -> 0.003 | L13: 10 | M13: 10 | N13: 10 | Q13: =ROUND(2*SQRT(G13^2+$C$3^2),3) -> 0.034 | R13: =Q13-$S$8 -> 0.008 | T13: 17 | U13: 17 | V13: 17
A14: 594 | B14: 6593299.9 | C14: 153594.89 | D14: 21.402 | E14: 8 | F14: 0.011 | G14: 0.018 | I14: =2*F14 -> 0.022 | J14: =I14-$K$8 -> 0.009 | L14: ="< " & N18 + 0.001 -> < 0.019 | M14: ="< " & O8 + 0.001 -> < 0.024 | N14: ="> " & O8 -> > 0.023 | Q14: =ROUND(2*SQRT(G14^2+$C$3^2),3) -> 0.039 | R14: =Q14-$S$8 -> 0.013 | T14: ="< " & V18 + 0.001 -> < 0.033 | U14: ="< " & W8 + 0.001 -> < 0.039 | V14: ="> " & W8 -> > 0.038
A15: 595 | B15: 6593300.2 | C15: 153599.65 | D15: 21.3 | E15: 8 | F15: 0.011 | G15: 0.018 | I15: =2*F15 -> 0.022 | J15: =I15-$K$8 -> 0.009 | Q15: =ROUND(2*SQRT(G15^2+$C$3^2),3) -> 0.039 | R15: =Q15-$S$8 -> 0.013
A16: 596 | B16: 6593279.4 | C16: 153606.06 | D16: 21.317 | E16: 8 | F16: 0.01 | G16: 0.021 | I16: =2*F16 -> 0.02 | J16: =I16-$K$8 -> 0.007 | L16: Skaičiavimų kontrolė | Q16: =ROUND(2*SQRT(G16^2+$C$3^2),3) -> 0.045 | R16: =Q16-$S$8 -> 0.019 | T16: Skaičiavimų kontrolė
A17: 597 | B17: 6593275.9 | C17: 153603.28 | D17: 21.417 | E17: 8 | F17: 0.007 | G17: 0.015 | I17: =2*F17 -> 0.014 | J17: =I17-$K$8 -> 0.001 | L17: 68% matavimų | Q17: =ROUND(2*SQRT(G17^2+$C$3^2),3) -> 0.034 | R17: =Q17-$S$8 -> 0.008 | T17: 68% matavimų
A18: 598 | B18: 6593275.3 | C18: 153601.99 | D18: 21.087 | E18: 8 | F18: 0.008 | G18: 0.016 | I18: =2*F18 -> 0.016 | J18: =I18-$K$8 -> 0.003 | L18: Tikslumas turi būti <= | N18: =ROUND(K8+M8,3) -> 0.018 | Q18: =ROUND(2*SQRT(G18^2+$C$3^2),3) -> 0.036 | R18: =Q18-$S$8 -> 0.01 | T18: Tikslumas turi būti <= | V18: =ROUND(S8+U8,3) -> 0.032
A19: 599 | B19: 6593274.9 | C19: 153601.22 | D19: 21.049 | E19: 8 | F19: 0.007 | G19: 0.013 | I19: =2*F19 -> 0.014 | J19: =I19-$K$8 -> 0.001 | L19: Turi būti taškų | N19: =ROUNDUP(0.68*A3,0) -> 213 | Q19: =ROUND(2*SQRT(G19^2+$C$3^2),3) -> 0.031 | R19: =Q19-$S$8 -> 0.005 | T19: Turi būti taškų | V19: =ROUNDUP(0.68*A3,0) -> 213
A20: 600 | B20: 6593274.7 | C20: 153600.3 | D20: 21.626 | E20: 8 | F20: 0.01 | G20: 0.022 | I20: =2*F20 -> 0.02 | J20: =I20-$K$8 -> 0.007 | L20: Yra taškų | N20: =DCOUNTA(I7:I9979,"10",L13:L14) -> 281 | Q20: =ROUND(2*SQRT(G20^2+$C$3^2),3) -> 0.047 | R20: =Q20-$S$8 -> 0.021 | T20: Yra taškų | V20: =DCOUNTA(Q7:Q9979,"17",T13:T14) -> 267
A21: 601 | B21: 6593273.8 | C21: 153596.11 | D21: 21.623 | E21: 8 | F21: 0.009 | G21: 0.016 | I21: =2*F21 -> 0.018 | J21: =I21-$K$8 -> 0.005 | L21: Sudaro % | N21: =N20/$A$3 -> 0.90064103 | Q21: =ROUND(2*SQRT(G21^2+$C$3^2),3) -> 0.036 | R21: =Q21-$S$8 -> 0.01 | T21: Sudaro % | V21: =V20/$A$3 -> 0.85576923
A22: 602 | B22: 6593273.8 | C22: 153596.19 | D22: 21.594 | E22: 8 | F22: 0.012 | G22: 0.021 | I22: =2*F22 -> 0.024 | J22: =I22-$K$8 -> 0.011 | L22: 95% matavimų | Q22: =ROUND(2*SQRT(G22^2+$C$3^2),3) -> 0.045 | R22: =Q22-$S$8 -> 0.019 | T22: 95% matavimų
A23: 603 | B23: 6593273.5 | C23: 153594.96 | D23: 21.178 | E23: 8 | F23: 0.02 | G23: 0.03 | I23: =2*F23 -> 0.04 | J23: =I23-$K$8 -> 0.027 | L23: Tikslumas turi būti <= | N23: =O8 -> 0.023 | Q23: =ROUND(2*SQRT(G23^2+$C$3^2),3) -> 0.062 | R23: =Q23-$S$8 -> 0.036 | T23: Tikslumas turi būti <= | V23: =W8 -> 0.038
A24: 604 | B24: 6593272.8 | C24: 153594.15 | D24: 21.188 | E24: 8 | F24: 0.012 | G24: 0.017 | I24: =2*F24 -> 0.024 | J24: =I24-$K$8 -> 0.011 | L24: Turi būti taškų | N24: =ROUNDUP(0.95*A3,0) -> 297 | Q24: =ROUND(2*SQRT(G24^2+$C$3^2),3) -> 0.038 | R24: =Q24-$S$8 -> 0.012 | T24: Turi būti taškų | V24: =ROUNDUP(0.95*A3,0) -> 297
A25: 605 | B25: 6593271.4 | C25: 153592.45 | D25: 22.659 | E25: 8 | F25: 0.017 | G25: 0.026 | I25: =2*F25 -> 0.034 | J25: =I25-$K$8 -> 0.021 | L25: Yra taškų | N25: =DCOUNTA(I7:I9983,"10",M13:M14) -> 298 | Q25: =ROUND(2*SQRT(G25^2+$C$3^2),3) -> 0.054 | R25: =Q25-$S$8 -> 0.028 | T25: Yra taškų | V25: =DCOUNTA(Q7:Q9991,"17",U13:U14) -> 296
A26: 606 | B26: 6593260.1 | C26: 153595.48 | D26: 22.635 | E26: 8 | F26: 0.009 | G26: 0.016 | I26: =2*F26 -> 0.018 | J26: =I26-$K$8 -> 0.005 | L26: Sudaro % | N26: =N25/$A$3 -> 0.95512821 | Q26: =ROUND(2*SQRT(G26^2+$C$3^2),3) -> 0.036 | R26: =Q26-$S$8 -> 0.01 | T26: Sudaro % | V26: =V25/$A$3 -> 0.94871795
A27: 607 | B27: 6593261.3 | C27: 153597.23 | D27: 21.184 | E27: 8 | F27: 0.01 | G27: 0.016 | I27: =2*F27 -> 0.02 | J27: =I27-$K$8 -> 0.007 | L27: 5% matavimų | Q27: =ROUND(2*SQRT(G27^2+$C$3^2),3) -> 0.036 | R27: =Q27-$S$8 -> 0.01 | T27: 5% matavimų
A28: 608 | B28: 6593261.9 | C28: 153597.64 | D28: 21.259 | E28: 8 | F28: 0.012 | G28: 0.018 | I28: =2*F28 -> 0.024 | J28: =I28-$K$8 -> 0.011 | L28: Tikslumas turi būti > | N28: =O8 -> 0.023 | Q28: =ROUND(2*SQRT(G28^2+$C$3^2),3) -> 0.039 | R28: =Q28-$S$8 -> 0.013 | T28: Tikslumas turi būti > | V28: =W8 -> 0.038
A29: 609 | B29: 6593262.5 | C29: 153598.8 | D29: 21.539 | E29: 8 | F29: 0.009 | G29: 0.014 | I29: =2*F29 -> 0.018 | J29: =I29-$K$8 -> 0.005 | L29: Turi būti taškų | N29: =ROUNDUP(0.05*A3,0) -> 16 | Q29: =ROUND(2*SQRT(G29^2+$C$3^2),3) -> 0.032 | R29: =Q29-$S$8 -> 0.006 | T29: Turi būti taškų | V29: =ROUNDUP(0.05*A3,0) -> 16
A30: 610 | B30: 6593263.8 | C30: 153603.34 | D30: 21.516 | E30: 8 | F30: 0.008 | G30: 0.012 | I30: =2*F30 -> 0.016 | J30: =I30-$K$8 -> 0.003 | L30: Yra taškų | N30: =DCOUNTA(I7:I9987,"10",N13:N14) -> 14 | Q30: =ROUND(2*SQRT(G30^2+$C$3^2),3) -> 0.029 | R30: =Q30-$S$8 -> 0.003 | T30: Yra taškų | V30: =DCOUNTA(Q7:Q9999,"17",V13:V14) -> 16
A31: 611 | B31: 6593264.8 | C31: 153606.74 | D31: 21.367 | E31: 8 | F31: 0.006 | G31: 0.012 | I31: =2*F31 -> 0.012 | J31: =I31-$K$8 -> -0.001 | Q31: =ROUND(2*SQRT(G31^2+$C$3^2),3) -> 0.029 | R31: =Q31-$S$8 -> 0.003
A32: 612 | B32: 6593265.8 | C32: 153609.98 | D32: 21.257 | E32: 8 | F32: 0.006 | G32: 0.012 | I32: =2*F32 -> 0.012 | J32: =I32-$K$8 -> -0.001 | Q32: =ROUND(2*SQRT(G32^2+$C$3^2),3) -> 0.029 | R32: =Q32-$S$8 -> 0.003 | T32: Vertikalaus tikslumo formulė pagal GKTR 1.01:2020. Atkreiptinas dėmesys, kad geoido tikslumas yra VKP, kurios pasikliautinumas yra 68%.
A33: 613 | B33: 6592391.2 | C33: 153599.99 | D33: 11.74 | E33: ktr-QA-vv | F33: 0.002 | G33: 0.004 | I33: =2*F33 -> 0.004 | J33: =I33-$K$8 -> -0.009 | Q33: =ROUND(2*SQRT(G33^2+$C$3^2),3) -> 0.018 | R33: =Q33-$S$8 -> -0.008
A34: 614 | B34: 6592391.3 | C34: 153596.78 | D34: 11.653 | E34: ktr-QA-vv | F34: 0.002 | G34: 0.004 | I34: =2*F34 -> 0.004 | J34: =I34-$K$8 -> -0.009 | Q34: =ROUND(2*SQRT(G34^2+$C$3^2),3) -> 0.018 | R34: =Q34-$S$8 -> -0.008
A35: 618 | B35: 6592179.7 | C35: 153588.58 | D35: 8.901 | E35: es-tvor1 P/iki viad siaur dal | F35: 0.008 | G35: 0.012 | I35: =2*F35 -> 0.016 | J35: =I35-$K$8 -> 0.003 | Q35: =ROUND(2*SQRT(G35^2+$C$3^2),3) -> 0.029 | R35: =Q35-$S$8 -> 0.003
A36: 620 | B36: 6592146.6 | C36: 153588.2 | D36: 8.947 | E36: es-tvor1 | F36: 0.008 | G36: 0.012 | I36: =2*F36 -> 0.016 | J36: =I36-$K$8 -> 0.003 | Q36: =ROUND(2*SQRT(G36^2+$C$3^2),3) -> 0.029 | R36: =Q36-$S$8 -> 0.003
A37: 621 | B37: 6592141.6 | C37: 153597.86 | D37: 8.528 | E37: es-tvor2 P | F37: 0.006 | G37: 0.01 | I37: =2*F37 -> 0.012 | J37: =I37-$K$8 -> -0.001 | Q37: =ROUND(2*SQRT(G37^2+$C$3^2),3) -> 0.026 | R37: =Q37-$S$8 -> 0
A38: 622 | B38: 6592100.2 | C38: 153594.01 | D38: 8.897 | E38: es-tvor2 | F38: 0.006 | G38: 0.01 | I38: =2*F38 -> 0.012 | J38: =I38-$K$8 -> -0.001 | Q38: =ROUND(2*SQRT(G38^2+$C$3^2),3) -> 0.026 | R38: =Q38-$S$8 -> 0
A39: 623 | B39: 6592075.9 | C39: 153591.68 | D39: 8.898 | E39: es-tvor2 | F39: 0.007 | G39: 0.011 | I39: =2*F39 -> 0.014 | J39: =I39-$K$8 -> 0.001 | Q39: =ROUND(2*SQRT(G39^2+$C$3^2),3) -> 0.027 | R39: =Q39-$S$8 -> 0.001
A40: 624 | B40: 6592068.5 | C40: 153600.04 | D40: 8.719 | E40: es-tvor2 | F40: 0.006 | G40: 0.01 | I40: =2*F40 -> 0.012 | J40: =I40-$K$8 -> -0.001 | Q40: =ROUND(2*SQRT(G40^2+$C$3^2),3) -> 0.026 | R40: =Q40-$S$8 -> 0 | T40: HVKP (8) - horizontalus matavimų tikslumas, kurį deklaruoja GPNS imtuvas VVKP (9) - vertikalus matavimų tikslumas, kurį deklaruoja GPNS imtuvas Apskaičiavus matavimų imties vidutinį kvadratinį nuokrypį reikia jį pridėti prie imties VKP vidurkio, nes VKN parodo reikšmių išsibarstymą būtent apie šį vidurkį. Matavimų HVKP ir VVKP reikšmių formatavimas yra toks, kad būtų paryškintos reikšmės, viršijančios deklaruojamą matavimų VKP. Kad būtų galima suvokti, ar imtis atitinka normalujį skirstinį, kontroliniuose skaičiavimuose parodyta, kaip turėtų būti ir kaip faktiškai yra pasiskirstę taškai pagal matavimo tikslumą.
A41: 625 | B41: 6592057.4 | C41: 153596.76 | D41: 8.648 | E41: es-tvor2 | F41: 0.008 | G41: 0.016 | I41: =2*F41 -> 0.016 | J41: =I41-$K$8 -> 0.003 | Q41: =ROUND(2*SQRT(G41^2+$C$3^2),3) -> 0.036 | R41: =Q41-$S$8 -> 0.01
A42: 626 | B42: 6592050.7 | C42: 153592.86 | D42: 9.146 | E42: es-tvor2 | F42: 0.006 | G42: 0.011 | I42: =2*F42 -> 0.012 | J42: =I42-$K$8 -> -0.001 | Q42: =ROUND(2*SQRT(G42^2+$C$3^2),3) -> 0.027 | R42: =Q42-$S$8 -> 0.001
A43: 627 | B43: 6592051.9 | C43: 153587.91 | D43: 9.234 | E43: es-tvor2 | F43: 0.006 | G43: 0.009 | I43: =2*F43 -> 0.012 | J43: =I43-$K$8 -> -0.001 | Q43: =ROUND(2*SQRT(G43^2+$C$3^2),3) -> 0.024 | R43: =Q43-$S$8 -> -0.002
A44: 628 | B44: 6592050.1 | C44: 153586 | D44: 9.339 | E44: es-tvor2 B | F44: 0.006 | G44: 0.009 | I44: =2*F44 -> 0.012 | J44: =I44-$K$8 -> -0.001 | Q44: =ROUND(2*SQRT(G44^2+$C$3^2),3) -> 0.024 | R44: =Q44-$S$8 -> -0.002
A45: 629 | B45: 6592052 | C45: 153576.81 | D45: 10.002 | E45: es-tvor3 P | F45: 0.006 | G45: 0.009 | I45: =2*F45 -> 0.012 | J45: =I45-$K$8 -> -0.001 | Q45: =ROUND(2*SQRT(G45^2+$C$3^2),3) -> 0.024 | R45: =Q45-$S$8 -> -0.002
A46: 630 | B46: 6592085 | C46: 153582.63 | D46: 9.206 | E46: es-tvor3 | F46: 0.007 | G46: 0.01 | I46: =2*F46 -> 0.014 | J46: =I46-$K$8 -> 0.001 | Q46: =ROUND(2*SQRT(G46^2+$C$3^2),3) -> 0.026 | R46: =Q46-$S$8 -> 0
A47: 631 | B47: 6592104.7 | C47: 153585.93 | D47: 8.985 | E47: es-tvor3 B | F47: 0.009 | G47: 0.013 | I47: =2*F47 -> 0.018 | J47: =I47-$K$8 -> 0.005 | Q47: =ROUND(2*SQRT(G47^2+$C$3^2),3) -> 0.031 | R47: =Q47-$S$8 -> 0.005
A48: 632 | B48: 6592104.7 | C48: 153585.94 | D48: 8.978 | E48: es-tvor1 B | F48: 0.008 | G48: 0.011 | I48: =2*F48 -> 0.016 | J48: =I48-$K$8 -> 0.003 | Q48: =ROUND(2*SQRT(G48^2+$C$3^2),3) -> 0.027 | R48: =Q48-$S$8 -> 0.001
A49: 633 | B49: 6594288.4 | C49: 153596.35 | D49: 19.922 | E49: ktr-ktl1 P | F49: 0.003 | G49: 0.006 | I49: =2*F49 -> 0.006 | J49: =I49-$K$8 -> -0.007 | Q49: =ROUND(2*SQRT(G49^2+$C$3^2),3) -> 0.02 | R49: =Q49-$S$8 -> -0.006
A50: 634 | B50: 6594288.4 | C50: 153596.97 | D50: 19.939 | E50: ktr-ktl2 P | F50: 0.003 | G50: 0.004 | I50: =2*F50 -> 0.006 | J50: =I50-$K$8 -> -0.007 | Q50: =ROUND(2*SQRT(G50^2+$C$3^2),3) -> 0.018 | R50: =Q50-$S$8 -> -0.008
A51: 635 | B51: 6594289.1 | C51: 153596.36 | D51: 19.934 | E51: ktr-ktl2 B | F51: 0.003 | G51: 0.005 | I51: =2*F51 -> 0.006 | J51: =I51-$K$8 -> -0.007 | Q51: =ROUND(2*SQRT(G51^2+$C$3^2),3) -> 0.019 | R51: =Q51-$S$8 -> -0.007
A52: T1 | B52: 6594289 | C52: 153596.95 | D52: 20.175 | E52: punktas | F52: 0.007 | G52: 0.011 | I52: =2*F52 -> 0.014 | J52: =I52-$K$8 -> 0.001 | Q52: =ROUND(2*SQRT(G52^2+$C$3^2),3) -> 0.027 | R52: =Q52-$S$8 -> 0.001
A53: 637 | B53: 6594290 | C53: 153584.52 | D53: 20.228 | E53: ktr-ktl3 P | F53: 0.003 | G53: 0.006 | I53: =2*F53 -> 0.006 | J53: =I53-$K$8 -> -0.007 | Q53: =ROUND(2*SQRT(G53^2+$C$3^2),3) -> 0.02 | R53: =Q53-$S$8 -> -0.006
A54: 638 | B54: 6594289.3 | C54: 153584.48 | D54: 20.215 | E54: ktr-ktl4 P | F54: 0.003 | G54: 0.006 | I54: =2*F54 -> 0.006 | J54: =I54-$K$8 -> -0.007 | Q54: =ROUND(2*SQRT(G54^2+$C$3^2),3) -> 0.02 | R54: =Q54-$S$8 -> -0.006
A55: 639 | B55: 6594290 | C55: 153585.18 | D55: 20.277 | E55: ktr-ktl4 B | F55: 0.004 | G55: 0.006 | I55: =2*F55 -> 0.008 | J55: =I55-$K$8 -> -0.005 | Q55: =ROUND(2*SQRT(G55^2+$C$3^2),3) -> 0.02 | R55: =Q55-$S$8 -> -0.006
A56: 640 | B56: 6594289.3 | C56: 153585.1 | D56: 20.228 | E56: ktr-ktl3 B | F56: 0.003 | G56: 0.006 | I56: =2*F56 -> 0.006 | J56: =I56-$K$8 -> -0.007 | Q56: =ROUND(2*SQRT(G56^2+$C$3^2),3) -> 0.02 | R56: =Q56-$S$8 -> -0.006
A57: 641 | B57: 6594289.4 | C57: 153585 | D57: 20.075 | E57: alt | F57: 0.002 | G57: 0.004 | I57: =2*F57 -> 0.004 | J57: =I57-$K$8 -> -0.009 | Q57: =ROUND(2*SQRT(G57^2+$C$3^2),3) -> 0.018 | R57: =Q57-$S$8 -> -0.008
A58: 642 | B58: 6594291.9 | C58: 153584.61 | D58: 20.329 | E58: alt | F58: 0.003 | G58: 0.004 | I58: =2*F58 -> 0.006 | J58: =I58-$K$8 -> -0.007 | Q58: =ROUND(2*SQRT(G58^2+$C$3^2),3) -> 0.018 | R58: =Q58-$S$8 -> -0.008
A59: 643 | B59: 6594290.9 | C59: 153596.38 | D59: 20.349 | E59: alt | F59: 0.002 | G59: 0.004 | I59: =2*F59 -> 0.004 | J59: =I59-$K$8 -> -0.009 | Q59: =ROUND(2*SQRT(G59^2+$C$3^2),3) -> 0.018 | R59: =Q59-$S$8 -> -0.008
A60: 644 | B60: 6594288.5 | C60: 153596.72 | D60: 19.706 | E60: alt | F60: 0.004 | G60: 0.008 | I60: =2*F60 -> 0.008 | J60: =I60-$K$8 -> -0.005 | Q60: =ROUND(2*SQRT(G60^2+$C$3^2),3) -> 0.023 | R60: =Q60-$S$8 -> -0.003
A61: 645 | B61: 6592053.5 | C61: 153588.32 | D61: 9.383 | E61: alt | F61: 0.005 | G61: 0.007 | I61: =2*F61 -> 0.01 | J61: =I61-$K$8 -> -0.003 | Q61: =ROUND(2*SQRT(G61^2+$C$3^2),3) -> 0.021 | R61: =Q61-$S$8 -> -0.005
A62: 646 | B62: 6592060.2 | C62: 153586.15 | D62: 9.281 | E62: alt | F62: 0.005 | G62: 0.007 | I62: =2*F62 -> 0.01 | J62: =I62-$K$8 -> -0.003 | Q62: =ROUND(2*SQRT(G62^2+$C$3^2),3) -> 0.021 | R62: =Q62-$S$8 -> -0.005
A63: 647 | B63: 6592066.6 | C63: 153587.97 | D63: 9.372 | E63: alt | F63: 0.005 | G63: 0.008 | I63: =2*F63 -> 0.01 | J63: =I63-$K$8 -> -0.003 | Q63: =ROUND(2*SQRT(G63^2+$C$3^2),3) -> 0.023 | R63: =Q63-$S$8 -> -0.003
A64: 648 | B64: 6592067.9 | C64: 153591.93 | D64: 9.411 | E64: alt | F64: 0.006 | G64: 0.01 | I64: =2*F64 -> 0.012 | J64: =I64-$K$8 -> -0.001 | Q64: =ROUND(2*SQRT(G64^2+$C$3^2),3) -> 0.026 | R64: =Q64-$S$8 -> 0
... A67: 651 | B67: 6592073.5 | C67: 153588.58 | D67: 9.25 | E67: alt | F67: 0.006 | G67: 0.009 | I67: =2*F67 -> 0.012 | J67: =I67-$K$8 -> -0.001 | Q67: =ROUND(2*SQRT(G67^2+$C$3^2),3) -> 0.024 | R67: =Q67-$S$8 -> -0.002
A68: T2 | B68: 6592081 | C68: 153582.08 | D68: 9.214 | E68: punktas | F68: 0.009 | G68: 0.013 | I68: =2*F68 -> 0.018 | J68: =I68-$K$8 -> 0.005 | Q68: =ROUND(2*SQRT(G68^2+$C$3^2),3) -> 0.031 | R68: =Q68-$S$8 -> 0.005
A69: 653 | B69: 6592081 | C69: 153583.7 | D69: 9.238 | E69: alt | F69: 0.006 | G69: 0.01 | I69: =2*F69 -> 0.012 | J69: =I69-$K$8 -> -0.001 | Q69: =ROUND(2*SQRT(G69^2+$C$3^2),3) -> 0.026 | R69: =Q69-$S$8 -> 0
A70: 654 | B70: 6592080.9 | C70: 153584.48 | D70: 9.498 | E70: alt | F70: 0.006 | G70: 0.01 | I70: =2*F70 -> 0.012 | J70: =I70-$K$8 -> -0.001 | Q70: =ROUND(2*SQRT(G70^2+$C$3^2),3) -> 0.026 | R70: =Q70-$S$8 -> 0
A71: 655 | B71: 6592080.3 | C71: 153589.13 | D71: 9.274 | E71: alt | F71: 0.006 | G71: 0.011 | I71: =2*F71 -> 0.012 | J71: =I71-$K$8 -> -0.001 | Q71: =ROUND(2*SQRT(G71^2+$C$3^2),3) -> 0.027 | R71: =Q71-$S$8 -> 0.001
A72: 656 | B72: 6592080.6 | C72: 153590.36 | D72: 8.968 | E72: alt | F72: 0.007 | G72: 0.012 | I72: =2*F72 -> 0.014 | J72: =I72-$K$8 -> 0.001 | Q72: =ROUND(2*SQRT(G72^2+$C$3^2),3) -> 0.029 | R72: =Q72-$S$8 -> 0.003
A73: 657 | B73: 6592081.2 | C73: 153594.94 | D73: 8.729 | E73: alt | F73: 0.007 | G73: 0.012 | I73: =2*F73 -> 0.014 | J73: =I73-$K$8 -> 0.001 | Q73: =ROUND(2*SQRT(G73^2+$C$3^2),3) -> 0.029 | R73: =Q73-$S$8 -> 0.003
A74: 658 | B74: 6592095.8 | C74: 153596.78 | D74: 8.78 | E74: alt | F74: 0.006 | G74: 0.009 | I74: =2*F74 -> 0.012 | J74: =I74-$K$8 -> -0.001 | Q74: =ROUND(2*SQRT(G74^2+$C$3^2),3) -> 0.024 | R74: =Q74-$S$8 -> -0.002
A75: 659 | B75: 6592095.9 | C75: 153593.65 | D75: 8.905 | E75: alt | F75: 0.006 | G75: 0.009 | I75: =2*F75 -> 0.012 | J75: =I75-$K$8 -> -0.001 | Q75: =ROUND(2*SQRT(G75^2+$C$3^2),3) -> 0.024 | R75: =Q75-$S$8 -> -0.002
A76: 660 | B76: 6592095.8 | C76: 153592.2 | D76: 8.899 | E76: alt | F76: 0.006 | G76: 0.01 | I76: =2*F76 -> 0.012 | J76: =I76-$K$8 -> -0.001 | Q76: =ROUND(2*SQRT(G76^2+$C$3^2),3) -> 0.026 | R76: =Q76-$S$8 -> 0
A77: 661 | B77: 6592096 | C77: 153590.92 | D77: 9.332 | E77: alt | F77: 0.006 | G77: 0.01 | I77: =2*F77 -> 0.012 | J77: =I77-$K$8 -> -0.001 | Q77: =ROUND(2*SQRT(G77^2+$C$3^2),3) -> 0.026 | R77: =Q77-$S$8 -> 0
A78: 662 | B78: 6592096.3 | C78: 153590.57 | D78: 9.457 | E78: alt | F78: 0.007 | G78: 0.01 | I78: =2*F78 -> 0.014 | J78: =I78-$K$8 -> 0.001 | Q78: =ROUND(2*SQRT(G78^2+$C$3^2),3) -> 0.026 | R78: =Q78-$S$8 -> 0
A79: 663 | B79: 6592096 | C79: 153587.3 | D79: 9.458 | E79: alt | F79: 0.007 | G79: 0.011 | I79: =2*F79 -> 0.014 | J79: =I79-$K$8 -> 0.001 | Q79: =ROUND(2*SQRT(G79^2+$C$3^2),3) -> 0.027 | R79: =Q79-$S$8 -> 0.001
A80: 664 | B80: 6592095.9 | C80: 153586.67 | D80: 9.462 | E80: alt | F80: 0.007 | G80: 0.011 | I80: =2*F80 -> 0.014 | J80: =I80-$K$8 -> 0.001 | Q80: =ROUND(2*SQRT(G80^2+$C$3^2),3) -> 0.027 | R80: =Q80-$S$8 -> 0.001
... A105: 689 | B105: 6593493 | C105: 153536.38 | D105: -77.255 | E105: k-dr | F105: 0.006 | G105: 0.01 | I105: =2*F105 -> 0.012 | J105: =I105-$K$8 -> -0.001 | Q105: =ROUND(2*SQRT(G105^2+$C$3^2),3) -> 0.026 | R105: =Q105-$S$8 -> 0
A106: 690_stk | B106: 6593486.1 | C106: 153538.03 | D106: 20.405 | E106: k-dr/690 | F106: 0.002 | G106: 0.003 | I106: =2*F106 -> 0.004 | J106: =I106-$K$8 -> -0.009 | Q106: =ROUND(2*SQRT(G106^2+$C$3^2),3) -> 0.017 | R106: =Q106-$S$8 -> -0.009
A107: 691 | B107: 6591658.6 | C107: 153461.88 | D107: 8.794 | E107: kab/Elevio 11kV 4 kab. 0.6m | F107: 0.005 | G107: 0.008 | I107: =2*F107 -> 0.01 | J107: =I107-$K$8 -> -0.003 | Q107: =ROUND(2*SQRT(G107^2+$C$3^2),3) -> 0.023 | R107: =Q107-$S$8 -> -0.003
A108: 692 | B108: 6591659.1 | C108: 153461.45 | D108: 8.679 | E108: kab | F108: 0.005 | G108: 0.007 | I108: =2*F108 -> 0.01 | J108: =I108-$K$8 -> -0.003 | Q108: =ROUND(2*SQRT(G108^2+$C$3^2),3) -> 0.021 | R108: =Q108-$S$8 -> -0.005
A109: 693 | B109: 6591659.9 | C109: 153461.07 | D109: 8.689 | E109: kab | F109: 0.005 | G109: 0.007 | I109: =2*F109 -> 0.01 | J109: =I109-$K$8 -> -0.003 | Q109: =ROUND(2*SQRT(G109^2+$C$3^2),3) -> 0.021 | R109: =Q109-$S$8 -> -0.005
A110: 694 | B110: 6591660.9 | C110: 153461.12 | D110: 8.658 | E110: kab | F110: 0.005 | G110: 0.007 | I110: =2*F110 -> 0.01 | J110: =I110-$K$8 -> -0.003 | Q110: =ROUND(2*SQRT(G110^2+$C$3^2),3) -> 0.021 | R110: =Q110-$S$8 -> -0.005
A111: 695 | B111: 6591670.1 | C111: 153464.1 | D111: 8.707 | E111: kab | F111: 0.006 | G111: 0.008 | I111: =2*F111 -> 0.012 | J111: =I111-$K$8 -> -0.001 | Q111: =ROUND(2*SQRT(G111^2+$C$3^2),3) -> 0.023 | R111: =Q111-$S$8 -> -0.003
A112: 696 | B112: 6591676.8 | C112: 153466.23 | D112: 8.838 | E112: kab | F112: 0.007 | G112: 0.01 | I112: =2*F112 -> 0.014 | J112: =I112-$K$8 -> 0.001 | Q112: =ROUND(2*SQRT(G112^2+$C$3^2),3) -> 0.026 | R112: =Q112-$S$8 -> 0
A113: 697 | B113: 6591690.8 | C113: 153470.56 | D113: 9.223 | E113: kab | F113: 0.007 | G113: 0.011 | I113: =2*F113 -> 0.014 | J113: =I113-$K$8 -> 0.001 | Q113: =ROUND(2*SQRT(G113^2+$C$3^2),3) -> 0.027 | R113: =Q113-$S$8 -> 0.001
A114: 698 | B114: 6591696.8 | C114: 153472.37 | D114: 9.065 | E114: kab | F114: 0.006 | G114: 0.009 | I114: =2*F114 -> 0.012 | J114: =I114-$K$8 -> -0.001 | Q114: =ROUND(2*SQRT(G114^2+$C$3^2),3) -> 0.024 | R114: =Q114-$S$8 -> -0.002
A115: 699 | B115: 6591701.9 | C115: 153473.78 | D115: 8.997 | E115: kab | F115: 0.006 | G115: 0.01 | I115: =2*F115 -> 0.012 | J115: =I115-$K$8 -> -0.001 | Q115: =ROUND(2*SQRT(G115^2+$C$3^2),3) -> 0.026 | R115: =Q115-$S$8 -> 0
A116: 700 | B116: 6591705.8 | C116: 153474.75 | D116: 9.145 | E116: kab | F116: 0.006 | G116: 0.009 | I116: =2*F116 -> 0.012 | J116: =I116-$K$8 -> -0.001 | Q116: =ROUND(2*SQRT(G116^2+$C$3^2),3) -> 0.024 | R116: =Q116-$S$8 -> -0.002
A117: 701 | B117: 6591713.1 | C117: 153476.32 | D117: 9.491 | E117: kab | F117: 0.005 | G117: 0.008 | I117: =2*F117 -> 0.01 | J117: =I117-$K$8 -> -0.003 | Q117: =ROUND(2*SQRT(G117^2+$C$3^2),3) -> 0.023 | R117: =Q117-$S$8 -> -0.003
A118: 702 | B118: 6591717.9 | C118: 153477.63 | D118: 9.705 | E118: kab | F118: 0.005 | G118: 0.008 | I118: =2*F118 -> 0.01 | J118: =I118-$K$8 -> -0.003 | Q118: =ROUND(2*SQRT(G118^2+$C$3^2),3) -> 0.023 | R118: =Q118-$S$8 -> -0.003
A119: U5 | B119: 6592216.4 | C119: 153601.29 | D119: 17.283 | E119: stl | F119: 0.004 | G119: 0.007 | I119: =2*F119 -> 0.008 | J119: =I119-$K$8 -> -0.005 | Q119: =ROUND(2*SQRT(G119^2+$C$3^2),3) -> 0.021 | R119: =Q119-$S$8 -> -0.005
A120: U6 | B120: 6592217 | C120: 153599.41 | D120: 17.292 | E120: stl | F120: 0.004 | G120: 0.007 | I120: =2*F120 -> 0.008 | J120: =I120-$K$8 -> -0.005 | Q120: =ROUND(2*SQRT(G120^2+$C$3^2),3) -> 0.021 | R120: =Q120-$S$8 -> -0.005
A121: U7 | B121: 6592217.7 | C121: 153597.54 | D121: 17.299 | E121: stl | F121: 0.006 | G121: 0.009 | I121: =2*F121 -> 0.012 | J121: =I121-$K$8 -> -0.001 | Q121: =ROUND(2*SQRT(G121^2+$C$3^2),3) -> 0.024 | R121: =Q121-$S$8 -> -0.002
A122: U8 | B122: 6592218.3 | C122: 153595.62 | D122: 17.3 | E122: stl | F122: 0.005 | G122: 0.008 | I122: =2*F122 -> 0.01 | J122: =I122-$K$8 -> -0.003 | Q122: =ROUND(2*SQRT(G122^2+$C$3^2),3) -> 0.023 | R122: =Q122-$S$8 -> -0.003
A123: U9 | B123: 6592218.9 | C123: 153593.74 | D123: 17.296 | E123: stl | F123: 0.005 | G123: 0.008 | I123: =2*F123 -> 0.01 | J123: =I123-$K$8 -> -0.003 | Q123: =ROUND(2*SQRT(G123^2+$C$3^2),3) -> 0.023 | R123: =Q123-$S$8 -> -0.003
A124: U10 | B124: 6592219.5 | C124: 153591.83 | D124: 17.283 | E124: stl | F124: 0.005 | G124: 0.008 | I124: =2*F124 -> 0.01 | J124: =I124-$K$8 -> -0.003 | Q124: =ROUND(2*SQRT(G124^2+$C$3^2),3) -> 0.023 | R124: =Q124-$S$8 -> -0.003
A125: U11 | B125: 6592220.1 | C125: 153589.89 | D125: 17.302 | E125: stl | F125: 0.005 | G125: 0.008 | I125: =2*F125 -> 0.01 | J125: =I125-$K$8 -> -0.003 | Q125: =ROUND(2*SQRT(G125^2+$C$3^2),3) -> 0.023 | R125: =Q125-$S$8 -> -0.003
A126: U12 | B126: 6592220.7 | C126: 153587.97 | D126: 17.271 | E126: stl | F126: 0.004 | G126: 0.007 | I126: =2*F126 -> 0.008 | J126: =I126-$K$8 -> -0.005 | Q126: =ROUND(2*SQRT(G126^2+$C$3^2),3) -> 0.021 | R126: =Q126-$S$8 -> -0.005
A127: U13 | B127: 6592221.2 | C127: 153586.05 | D127: 17.279 | E127: stl | F127: 0.005 | G127: 0.008 | I127: =2*F127 -> 0.01 | J127: =I127-$K$8 -> -0.003 | Q127: =ROUND(2*SQRT(G127^2+$C$3^2),3) -> 0.023 | R127: =Q127-$S$8 -> -0.003
...

Sheet Ataskaita
A1: GPNS matavimų tikslumo ataskaita
A2: Objekto pavadinimas:
A3: Data:
A5: Matavimų skaičius | C5: =Skaičiavimai!A3 -> 312
A7: Horizontalus tikslumas
A8: Imties vidurkis, m | F8: =Skaičiavimai!K8 -> 0.013
A9: Dispersija, m2 | F9: =Skaičiavimai!L8 -> 2.577492e-05
A10: Vidutinis kvadratinis nuokrypis s, m | F10: =Skaičiavimai!M8 -> 0.005
A11: 2 x s (95%), m | F11: =Skaičiavimai!N8 -> 0.01
A12: Deklaruojamas imties horizontalus tikslumas (95%), m | F12: =Skaičiavimai!O8 -> 0.023
A14: Vertikalus tikslumas
A15: Geoidas | F15: LIT15G
A16: Geoido tikslumas, m | F16: =Skaičiavimai!C3 -> 0.008
A17: Imties vidurkis, m | F17: =Skaičiavimai!S8 -> 0.026
A18: Dispersija, m2 | F18: =Skaičiavimai!T8 -> 4.0392283e-05
A19: Vidutinis kvadratinis nuokrypis s, m | F19: =Skaičiavimai!U8 -> 0.006
A20: 2 x s (95%), m | F20: =Skaičiavimai!V8 -> 0.012
A21: Deklaruojamas imties vertikalus tikslumas (95%), m | F21: =Skaičiavimai!W8 -> 0.038
A23: Geodezinis pagrindas
A24: Nr. | B24: X | C24: Y | D24: H | E24: Kodas | F24: Hor. tiksl. | G24: Vert. tiksl. | H24: Pastaba
A25: T1 | B25: =VLOOKUP(A25,Skaičiavimai!$A$8:$D$9753,2,FALSE) -> 6594289 | C25: =VLOOKUP(A25,Skaičiavimai!$A$8:$D$9753,3,FALSE) -> 153596.95 | D25: =VLOOKUP(A25,Skaičiavimai!$A$8:$D$9753,4,FALSE) -> 20.175 | E25: =VLOOKUP(A25,Skaičiavimai!$A$8:$E$9753,5,FALSE) -> punktas | F25: =VLOOKUP(A25,Skaičiavimai!$A$8:$Q$9753,9,FALSE) -> 0.014 | G25: =VLOOKUP(A25,Skaičiavimai!$A$8:$Q$9753,17,FALSE) -> 0.027
A26: T2 | B26: =VLOOKUP(A26,Skaičiavimai!$A$8:$D$9753,2,FALSE) -> 6592081 | C26: =VLOOKUP(A26,Skaičiavimai!$A$8:$D$9753,3,FALSE) -> 153582.08 | D26: =VLOOKUP(A26,Skaičiavimai!$A$8:$D$9753,4,FALSE) -> 9.214 | E26: =VLOOKUP(A26,Skaičiavimai!$A$8:$E$9753,5,FALSE) -> punktas | F26: =VLOOKUP(A26,Skaičiavimai!$A$8:$Q$9753,9,FALSE) -> 0.018 | G26: =VLOOKUP(A26,Skaičiavimai!$A$8:$Q$9753,17,FALSE) -> 0.031
D45: Skaičiavimus atliko: | F45: V. Pavardenis

Sheet Geoidai
A1: LIT15G | B1: 0.03
A2: LIT20G | B2: 0.008
